View In:
ArcGIS JavaScript
ArcGIS Online Map Viewer
ArcGIS Earth
ArcMap
ArcGIS Pro
View Footprint In:
ArcGIS Online Map Viewer
Service Description: Trying to Improve Street Labeling
Map Name: LightBase_Streets
Legend
All Layers and Tables
Dynamic Legend
Dynamic All Layers
Layers:
-
Streets 70 (1)
-
Streets 141 (3)
-
Streets 282 (5)
-
Streets 564 (7)
-
NCTCOG Freeways 1,128 (8)
-
Streets 1,128 (10)
-
NCTCOG Freeways 2,257 (11)
-
Streets 2,257 (13)
-
NCTCOG Freeways 4,514 (14)
-
Streets 4,514 (16)
-
NCTCOG Freeways 9,028 (17)
-
Streets 9,028 (19)
-
NCTCOG Freeways 18,056 (20)
-
Streets 18,056 (22)
-
NCTCOG Freeways 36,112 (23)
-
Streets 36,112 (25)
-
NCTCOG Freeways 72,224 (26)
-
Streets 72,224 (28)
-
NCTCOG Freeways 144,448 (29)
-
Streets 144,448 (31)
-
NCTCOG Freeways 288,895 (32)
-
Streets 288,895 (34)
-
NCTCOG Freeways 577,791 (35)
Description: Trying to Improve Street Labeling
Copyright Text:
Spatial Reference:
102100
(3857)
Single Fused Map Cache: true
Tile Info:
- Height: 256
- Width: 256
- DPI: 96
-
Levels of Detail: 24
-
Level ID: 1
[ Start Tile, End Tile ]
- Resolution: 78271.5169639999
- Scale: 2.95828763795777E8
-
Level ID: 2
[ Start Tile, End Tile ]
- Resolution: 39135.7584820001
- Scale: 1.47914381897889E8
-
Level ID: 3
[ Start Tile, End Tile ]
- Resolution: 19567.8792409999
- Scale: 7.3957190948944E7
-
Level ID: 4
[ Start Tile, End Tile ]
- Resolution: 9783.93962049996
- Scale: 3.6978595474472E7
-
Level ID: 5
[ Start Tile, End Tile ]
- Resolution: 4891.96981024998
- Scale: 1.8489297737236E7
- Format: PNG
- Compression Quality: 0.0
- Origin: X: -2.0037508342787E7
Y: 2.0037508342787E7
- Spatial Reference: 102100
(3857)
Storage Info:
- Storage Format: esriMapCacheStorageModeCompactV2
- Packet Size: 128
Initial Extent:
XMin: -1.083181431325361E7
YMin: 3877731.5629494414
XMax: -1.080376797348024E7
YMax: 3909495.4548878465
Spatial Reference: 102100
Full Extent:
XMin: -1.0973509223863773E7
YMin: 3737924.7135286657
XMax: -1.067046704279457E7
YMax: 3953341.065115271
Spatial Reference: 102100
Units: esriMeters
Supported Image Format Types: PNG32,PNG24,PNG,JPG,DIB,TIFF,EMF,PS,PDF,GIF,SVG,SVGZ,BMP
Document Info:
Title: BingStyleBaseMap
Author:
Comments: Trying to Improve Street Labeling
Subject: PropertyMap_McIntosh
Category:
Keywords: Street Labeling
AntialiasingMode: Fast
TextAntialiasingMode: Force
Supports Dynamic Layers: true
MaxRecordCount: 2000
MaxImageHeight: 4096
MaxImageWidth: 4096
Supported Query Formats: JSON, geoJSON, PBF
Supports Query Data Elements: true
Min Scale: 1155581.108577
Max Scale: 564.248588
Supports Datum Transformation: true
Child Resources:
Info
Dynamic Layer
Supported Operations:
Export Map
QueryLegends
Return Updates